BEGIN:VCALENDAR
VERSION:2.0
PRODID:-//New York Small Business Development Centers - MultisiteD - ECPv6.15.11//NONSGML v1.0//EN
CALSCALE:GREGORIAN
METHOD:PUBLISH
X-WR-CALNAME:New York Small Business Development Centers - MultisiteD
X-ORIGINAL-URL:https://nysbdcmultisitedev.itec.suny.edu
X-WR-CALDESC:Events for New York Small Business Development Centers - MultisiteD
REFRESH-INTERVAL;VALUE=DURATION:PT1H
X-Robots-Tag:noindex
X-PUBLISHED-TTL:PT1H
BEGIN:VTIMEZONE
TZID:America/New_York
BEGIN:DAYLIGHT
TZOFFSETFROM:-0500
TZOFFSETTO:-0400
TZNAME:EDT
DTSTART:20240310T070000
END:DAYLIGHT
BEGIN:STANDARD
TZOFFSETFROM:-0400
TZOFFSETTO:-0500
TZNAME:EST
DTSTART:20241103T060000
END:STANDARD
BEGIN:DAYLIGHT
TZOFFSETFROM:-0500
TZOFFSETTO:-0400
TZNAME:EDT
DTSTART:20250309T070000
END:DAYLIGHT
BEGIN:STANDARD
TZOFFSETFROM:-0400
TZOFFSETTO:-0500
TZNAME:EST
DTSTART:20251102T060000
END:STANDARD
BEGIN:DAYLIGHT
TZOFFSETFROM:-0500
TZOFFSETTO:-0400
TZNAME:EDT
DTSTART:20260308T070000
END:DAYLIGHT
BEGIN:STANDARD
TZOFFSETFROM:-0400
TZOFFSETTO:-0500
TZNAME:EST
DTSTART:20261101T060000
END:STANDARD
END:VTIMEZONE
BEGIN:VEVENT
DTSTART;VALUE=DATE:20250130
DTEND;VALUE=DATE:20250213
DTSTAMP:20260419T092304
CREATED:20241216T194837Z
LAST-MODIFIED:20250212T151838Z
UID:10000188-1738195200-1739404799@nysbdcmultisitedev.itec.suny.edu
SUMMARY:Your Financial Playbook for Business Success (3-Part Series)
DESCRIPTION:https://nysbdc.ecenterdirect.com/events/1019165
URL:https://nysbdcmultisitedev.itec.suny.edu/event/your-financial-playbook-for-business-success-3-part-series/
ATTACH;FMTTYPE=image/jpeg:https://nysbdcmultisitedev.itec.suny.edu/wp-content/uploads/2024/11/no_image.jpg
END:VEVENT
BEGIN:VEVENT
DTSTART;VALUE=DATE:20250206
DTEND;VALUE=DATE:20250207
DTSTAMP:20260419T092304
CREATED:20241230T200344Z
LAST-MODIFIED:20250205T144838Z
UID:10000202-1738800000-1738886399@nysbdcmultisitedev.itec.suny.edu
SUMMARY:Writing Your Business Plan
DESCRIPTION:https://nysbdc.ecenterdirect.com/events/1019178
URL:https://nysbdcmultisitedev.itec.suny.edu/event/writing-your-business-plan/
ATTACH;FMTTYPE=image/jpeg:https://nysbdcmultisitedev.itec.suny.edu/wp-content/uploads/2024/11/no_image.jpg
END:VEVENT
BEGIN:VEVENT
DTSTART;VALUE=DATE:20250206
DTEND;VALUE=DATE:20250207
DTSTAMP:20260419T092304
CREATED:20250113T220350Z
LAST-MODIFIED:20250205T144838Z
UID:10000240-1738800000-1738886399@nysbdcmultisitedev.itec.suny.edu
SUMMARY:Success Through Certification
DESCRIPTION:https://nysbdc.ecenterdirect.com/events/1019208
URL:https://nysbdcmultisitedev.itec.suny.edu/event/success-through-certification/
ATTACH;FMTTYPE=image/jpeg:https://nysbdcmultisitedev.itec.suny.edu/wp-content/uploads/2024/11/no_image.jpg
END:VEVENT
END:VCALENDAR