BEGIN:VCALENDAR
VERSION:2.0
PRODID:-//New York Small Business Development Centers - MultisiteD - ECPv6.15.11//NONSGML v1.0//EN
CALSCALE:GREGORIAN
METHOD:PUBLISH
X-WR-CALNAME:New York Small Business Development Centers - MultisiteD
X-ORIGINAL-URL:https://nysbdcmultisitedev.itec.suny.edu
X-WR-CALDESC:Events for New York Small Business Development Centers - MultisiteD
REFRESH-INTERVAL;VALUE=DURATION:PT1H
X-Robots-Tag:noindex
X-PUBLISHED-TTL:PT1H
BEGIN:VTIMEZONE
TZID:America/New_York
BEGIN:DAYLIGHT
TZOFFSETFROM:-0500
TZOFFSETTO:-0400
TZNAME:EDT
DTSTART:20240310T070000
END:DAYLIGHT
BEGIN:STANDARD
TZOFFSETFROM:-0400
TZOFFSETTO:-0500
TZNAME:EST
DTSTART:20241103T060000
END:STANDARD
BEGIN:DAYLIGHT
TZOFFSETFROM:-0500
TZOFFSETTO:-0400
TZNAME:EDT
DTSTART:20250309T070000
END:DAYLIGHT
BEGIN:STANDARD
TZOFFSETFROM:-0400
TZOFFSETTO:-0500
TZNAME:EST
DTSTART:20251102T060000
END:STANDARD
BEGIN:DAYLIGHT
TZOFFSETFROM:-0500
TZOFFSETTO:-0400
TZNAME:EDT
DTSTART:20260308T070000
END:DAYLIGHT
BEGIN:STANDARD
TZOFFSETFROM:-0400
TZOFFSETTO:-0500
TZNAME:EST
DTSTART:20261101T060000
END:STANDARD
END:VTIMEZONE
BEGIN:VEVENT
DTSTART;VALUE=DATE:20250130
DTEND;VALUE=DATE:20250213
DTSTAMP:20260421T093403
CREATED:20241216T194837Z
LAST-MODIFIED:20250212T151838Z
UID:10000188-1738195200-1739404799@nysbdcmultisitedev.itec.suny.edu
SUMMARY:Your Financial Playbook for Business Success (3-Part Series)
DESCRIPTION:https://nysbdc.ecenterdirect.com/events/1019165
URL:https://nysbdcmultisitedev.itec.suny.edu/event/your-financial-playbook-for-business-success-3-part-series/
ATTACH;FMTTYPE=image/jpeg:https://nysbdcmultisitedev.itec.suny.edu/wp-content/uploads/2024/11/no_image.jpg
END:VEVENT
BEGIN:VEVENT
DTSTART;VALUE=DATE:20250204
DTEND;VALUE=DATE:20250205
DTSTAMP:20260421T093403
CREATED:20241209T195343Z
LAST-MODIFIED:20250203T143338Z
UID:10000172-1738627200-1738713599@nysbdcmultisitedev.itec.suny.edu
SUMMARY:Entrepreneur Growth Lab (Spring 2025\, Westchester – New York)
DESCRIPTION:https://nysbdc.ecenterdirect.com/events/1019159
URL:https://nysbdcmultisitedev.itec.suny.edu/event/entrepreneur-growth-lab-spring-2025-westchester-new-york/
ATTACH;FMTTYPE=image/jpeg:https://nysbdcmultisitedev.itec.suny.edu/wp-content/uploads/2024/11/no_image.jpg
END:VEVENT
BEGIN:VEVENT
DTSTART;VALUE=DATE:20250204
DTEND;VALUE=DATE:20250205
DTSTAMP:20260421T093403
CREATED:20250102T211010Z
LAST-MODIFIED:20250203T143336Z
UID:10000217-1738627200-1738713599@nysbdcmultisitedev.itec.suny.edu
SUMMARY:Non-Disclosure Agreements: When Should You Require an NDA\, When Should You Sign an NDA
DESCRIPTION:https://nysbdc.ecenterdirect.com/events/1019131
URL:https://nysbdcmultisitedev.itec.suny.edu/event/non-disclosure-agreements-when-should-you-require-an-nda-when-should-you-sign-an-nda/
ATTACH;FMTTYPE=image/jpeg:https://nysbdcmultisitedev.itec.suny.edu/wp-content/uploads/2024/11/no_image.jpg
END:VEVENT
BEGIN:VEVENT
DTSTART;VALUE=DATE:20250204
DTEND;VALUE=DATE:20250205
DTSTAMP:20260421T093403
CREATED:20250114T220351Z
LAST-MODIFIED:20250203T143336Z
UID:10000246-1738627200-1738713599@nysbdcmultisitedev.itec.suny.edu
SUMMARY:Global Market Research
DESCRIPTION:https://nysbdc.ecenterdirect.com/events/1019213
URL:https://nysbdcmultisitedev.itec.suny.edu/event/global-market-research/
ATTACH;FMTTYPE=image/jpeg:https://nysbdcmultisitedev.itec.suny.edu/wp-content/uploads/2024/11/no_image.jpg
END:VEVENT
BEGIN:VEVENT
DTSTART;VALUE=DATE:20250204
DTEND;VALUE=DATE:20250205
DTSTAMP:20260421T093403
CREATED:20250124T141846Z
LAST-MODIFIED:20250203T143338Z
UID:10000262-1738627200-1738713599@nysbdcmultisitedev.itec.suny.edu
SUMMARY:Welcome to the SBDC Info Session
DESCRIPTION:https://nysbdc.ecenterdirect.com/events/1019238
URL:https://nysbdcmultisitedev.itec.suny.edu/event/welcome-to-the-sbdc-info-session-9/
ATTACH;FMTTYPE=image/jpeg:https://nysbdcmultisitedev.itec.suny.edu/wp-content/uploads/2024/11/no_image.jpg
END:VEVENT
END:VCALENDAR