BEGIN:VCALENDAR
VERSION:2.0
PRODID:-//New York Small Business Development Centers - MultisiteD - ECPv6.15.11//NONSGML v1.0//EN
CALSCALE:GREGORIAN
METHOD:PUBLISH
X-WR-CALNAME:New York Small Business Development Centers - MultisiteD
X-ORIGINAL-URL:https://nysbdcmultisitedev.itec.suny.edu
X-WR-CALDESC:Events for New York Small Business Development Centers - MultisiteD
REFRESH-INTERVAL;VALUE=DURATION:PT1H
X-Robots-Tag:noindex
X-PUBLISHED-TTL:PT1H
BEGIN:VTIMEZONE
TZID:America/New_York
BEGIN:DAYLIGHT
TZOFFSETFROM:-0500
TZOFFSETTO:-0400
TZNAME:EDT
DTSTART:20240310T070000
END:DAYLIGHT
BEGIN:STANDARD
TZOFFSETFROM:-0400
TZOFFSETTO:-0500
TZNAME:EST
DTSTART:20241103T060000
END:STANDARD
BEGIN:DAYLIGHT
TZOFFSETFROM:-0500
TZOFFSETTO:-0400
TZNAME:EDT
DTSTART:20250309T070000
END:DAYLIGHT
BEGIN:STANDARD
TZOFFSETFROM:-0400
TZOFFSETTO:-0500
TZNAME:EST
DTSTART:20251102T060000
END:STANDARD
BEGIN:DAYLIGHT
TZOFFSETFROM:-0500
TZOFFSETTO:-0400
TZNAME:EDT
DTSTART:20260308T070000
END:DAYLIGHT
BEGIN:STANDARD
TZOFFSETFROM:-0400
TZOFFSETTO:-0500
TZNAME:EST
DTSTART:20261101T060000
END:STANDARD
END:VTIMEZONE
BEGIN:VEVENT
DTSTART;VALUE=DATE:20250127
DTEND;VALUE=DATE:20250203
DTSTAMP:20260421T102528
CREATED:20241217T194906Z
LAST-MODIFIED:20250202T143337Z
UID:10000194-1737936000-1738540799@nysbdcmultisitedev.itec.suny.edu
SUMMARY:Small Business Training Program
DESCRIPTION:https://nysbdc.ecenterdirect.com/events/1019162
URL:https://nysbdcmultisitedev.itec.suny.edu/event/small-business-training-program/
ATTACH;FMTTYPE=image/jpeg:https://nysbdcmultisitedev.itec.suny.edu/wp-content/uploads/2024/11/no_image.jpg
END:VEVENT
BEGIN:VEVENT
DTSTART;VALUE=DATE:20250128
DTEND;VALUE=DATE:20250129
DTSTAMP:20260421T102528
CREATED:20241209T195343Z
LAST-MODIFIED:20250127T143338Z
UID:10000171-1738022400-1738108799@nysbdcmultisitedev.itec.suny.edu
SUMMARY:Eliminate Burnout: Consistently Grow Your Business
DESCRIPTION:https://nysbdc.ecenterdirect.com/events/1019158
URL:https://nysbdcmultisitedev.itec.suny.edu/event/eliminate-burnout-consistently-grow-your-business/
ATTACH;FMTTYPE=image/jpeg:https://nysbdcmultisitedev.itec.suny.edu/wp-content/uploads/2024/11/no_image.jpg
END:VEVENT
BEGIN:VEVENT
DTSTART;VALUE=DATE:20250128
DTEND;VALUE=DATE:20250129
DTSTAMP:20260421T102528
CREATED:20250102T211013Z
LAST-MODIFIED:20250127T143339Z
UID:10000218-1738022400-1738108799@nysbdcmultisitedev.itec.suny.edu
SUMMARY:Financing Essentials for Contractors
DESCRIPTION:https://nysbdc.ecenterdirect.com/events/1019118
URL:https://nysbdcmultisitedev.itec.suny.edu/event/financing-essentials-for-contractors/
ATTACH;FMTTYPE=image/jpeg:https://nysbdcmultisitedev.itec.suny.edu/wp-content/uploads/2024/11/no_image.jpg
END:VEVENT
BEGIN:VEVENT
DTSTART;VALUE=DATE:20250128
DTEND;VALUE=DATE:20250129
DTSTAMP:20260421T102528
CREATED:20250102T211014Z
LAST-MODIFIED:20250127T143337Z
UID:10000219-1738022400-1738108799@nysbdcmultisitedev.itec.suny.edu
SUMMARY:Contracts & Risk Management for Small Business Owners
DESCRIPTION:https://nysbdc.ecenterdirect.com/events/1019130
URL:https://nysbdcmultisitedev.itec.suny.edu/event/contracts-risk-management-for-small-business-owners/
ATTACH;FMTTYPE=image/jpeg:https://nysbdcmultisitedev.itec.suny.edu/wp-content/uploads/2024/11/no_image.jpg
END:VEVENT
END:VCALENDAR