BEGIN:VCALENDAR
VERSION:2.0
PRODID:-//New York Small Business Development Centers - MultisiteD - ECPv6.15.11//NONSGML v1.0//EN
CALSCALE:GREGORIAN
METHOD:PUBLISH
X-WR-CALNAME:New York Small Business Development Centers - MultisiteD
X-ORIGINAL-URL:https://nysbdcmultisitedev.itec.suny.edu
X-WR-CALDESC:Events for New York Small Business Development Centers - MultisiteD
REFRESH-INTERVAL;VALUE=DURATION:PT1H
X-Robots-Tag:noindex
X-PUBLISHED-TTL:PT1H
BEGIN:VTIMEZONE
TZID:America/New_York
BEGIN:DAYLIGHT
TZOFFSETFROM:-0500
TZOFFSETTO:-0400
TZNAME:EDT
DTSTART:20240310T070000
END:DAYLIGHT
BEGIN:STANDARD
TZOFFSETFROM:-0400
TZOFFSETTO:-0500
TZNAME:EST
DTSTART:20241103T060000
END:STANDARD
BEGIN:DAYLIGHT
TZOFFSETFROM:-0500
TZOFFSETTO:-0400
TZNAME:EDT
DTSTART:20250309T070000
END:DAYLIGHT
BEGIN:STANDARD
TZOFFSETFROM:-0400
TZOFFSETTO:-0500
TZNAME:EST
DTSTART:20251102T060000
END:STANDARD
BEGIN:DAYLIGHT
TZOFFSETFROM:-0500
TZOFFSETTO:-0400
TZNAME:EDT
DTSTART:20260308T070000
END:DAYLIGHT
BEGIN:STANDARD
TZOFFSETFROM:-0400
TZOFFSETTO:-0500
TZNAME:EST
DTSTART:20261101T060000
END:STANDARD
END:VTIMEZONE
BEGIN:VEVENT
DTSTART;VALUE=DATE:20250123
DTEND;VALUE=DATE:20250124
DTSTAMP:20260421T102516
CREATED:20241219T200357Z
LAST-MODIFIED:20250122T141838Z
UID:10000197-1737590400-1737676799@nysbdcmultisitedev.itec.suny.edu
SUMMARY:How to Start a Business
DESCRIPTION:https://nysbdc.ecenterdirect.com/events/1019175
URL:https://nysbdcmultisitedev.itec.suny.edu/event/how-to-start-a-business/
ATTACH;FMTTYPE=image/jpeg:https://nysbdcmultisitedev.itec.suny.edu/wp-content/uploads/2024/11/no_image.jpg
END:VEVENT
BEGIN:VEVENT
DTSTART;VALUE=DATE:20250123
DTEND;VALUE=DATE:20250124
DTSTAMP:20260421T102516
CREATED:20250114T220342Z
LAST-MODIFIED:20250122T141839Z
UID:10000244-1737590400-1737676799@nysbdcmultisitedev.itec.suny.edu
SUMMARY:The Succession Planning Process
DESCRIPTION:https://nysbdc.ecenterdirect.com/events/1019214
URL:https://nysbdcmultisitedev.itec.suny.edu/event/the-succession-planning-process/
ATTACH;FMTTYPE=image/jpeg:https://nysbdcmultisitedev.itec.suny.edu/wp-content/uploads/2024/11/no_image.jpg
END:VEVENT
BEGIN:VEVENT
DTSTART;VALUE=DATE:20250123
DTEND;VALUE=DATE:20250124
DTSTAMP:20260421T102516
CREATED:20250122T141835Z
LAST-MODIFIED:20250122T141835Z
UID:10000257-1737590400-1737676799@nysbdcmultisitedev.itec.suny.edu
SUMMARY:NELP Remote Small Business Legal Clinic
DESCRIPTION:https://nysbdc.ecenterdirect.com/events/1019234
URL:https://nysbdcmultisitedev.itec.suny.edu/event/nelp-remote-small-business-legal-clinic-5/
ATTACH;FMTTYPE=image/jpeg:https://nysbdcmultisitedev.itec.suny.edu/wp-content/uploads/2024/11/no_image.jpg
END:VEVENT
END:VCALENDAR