BEGIN:VCALENDAR
VERSION:2.0
PRODID:-//New York Small Business Development Centers - MultisiteD - ECPv6.15.11//NONSGML v1.0//EN
CALSCALE:GREGORIAN
METHOD:PUBLISH
X-ORIGINAL-URL:https://nysbdcmultisitedev.itec.suny.edu
X-WR-CALDESC:Events for New York Small Business Development Centers - MultisiteD
REFRESH-INTERVAL;VALUE=DURATION:PT1H
X-Robots-Tag:noindex
X-PUBLISHED-TTL:PT1H
BEGIN:VTIMEZONE
TZID:America/New_York
BEGIN:DAYLIGHT
TZOFFSETFROM:-0500
TZOFFSETTO:-0400
TZNAME:EDT
DTSTART:20240310T070000
END:DAYLIGHT
BEGIN:STANDARD
TZOFFSETFROM:-0400
TZOFFSETTO:-0500
TZNAME:EST
DTSTART:20241103T060000
END:STANDARD
BEGIN:DAYLIGHT
TZOFFSETFROM:-0500
TZOFFSETTO:-0400
TZNAME:EDT
DTSTART:20250309T070000
END:DAYLIGHT
BEGIN:STANDARD
TZOFFSETFROM:-0400
TZOFFSETTO:-0500
TZNAME:EST
DTSTART:20251102T060000
END:STANDARD
BEGIN:DAYLIGHT
TZOFFSETFROM:-0500
TZOFFSETTO:-0400
TZNAME:EDT
DTSTART:20260308T070000
END:DAYLIGHT
BEGIN:STANDARD
TZOFFSETFROM:-0400
TZOFFSETTO:-0500
TZNAME:EST
DTSTART:20261101T060000
END:STANDARD
END:VTIMEZONE
BEGIN:VEVENT
DTSTART;VALUE=DATE:20250108
DTEND;VALUE=DATE:20250122
DTSTAMP:20260421T132518
CREATED:20241211T200339Z
LAST-MODIFIED:20250121T140719Z
UID:10000182-1736294400-1737503999@nysbdcmultisitedev.itec.suny.edu
SUMMARY:From Vision to Venture
DESCRIPTION:https://nysbdc.ecenterdirect.com/events/1019164
URL:https://nysbdcmultisitedev.itec.suny.edu/event/from-vision-to-venture/
ATTACH;FMTTYPE=image/jpeg:https://nysbdcmultisitedev.itec.suny.edu/wp-content/uploads/2024/11/no_image.jpg
END:VEVENT
BEGIN:VEVENT
DTSTART;VALUE=DATE:20250116
DTEND;VALUE=DATE:20250117
DTSTAMP:20260421T132518
CREATED:20241106T020014Z
LAST-MODIFIED:20250102T215252Z
UID:10000161-1736985600-1737071999@nysbdcmultisitedev.itec.suny.edu
SUMMARY:"Business Plan Writing” and “Export Plan Writing"
DESCRIPTION:https://nysbdc.ecenterdirect.com/events/1019070
URL:https://nysbdcmultisitedev.itec.suny.edu/event/business-plan-writing-and-export-plan-writing/
ATTACH;FMTTYPE=image/jpeg:https://nysbdcmultisitedev.itec.suny.edu/wp-content/uploads/2024/11/no_image.jpg
END:VEVENT
BEGIN:VEVENT
DTSTART;VALUE=DATE:20250116
DTEND;VALUE=DATE:20250117
DTSTAMP:20260421T132518
CREATED:20241212T191912Z
LAST-MODIFIED:20250115T220339Z
UID:10000187-1736985600-1737071999@nysbdcmultisitedev.itec.suny.edu
SUMMARY:Build Your Website in Just 2 Sessions
DESCRIPTION:https://nysbdc.ecenterdirect.com/events/1019157
URL:https://nysbdcmultisitedev.itec.suny.edu/event/build-your-website-in-just-2-sessions/
ATTACH;FMTTYPE=image/jpeg:https://nysbdcmultisitedev.itec.suny.edu/wp-content/uploads/2024/11/no_image.jpg
END:VEVENT
BEGIN:VEVENT
DTSTART;VALUE=DATE:20250116
DTEND;VALUE=DATE:20250117
DTSTAMP:20260421T132518
CREATED:20250102T210958Z
LAST-MODIFIED:20250115T220338Z
UID:10000208-1736985600-1737071999@nysbdcmultisitedev.itec.suny.edu
SUMMARY:Succession Planning: What You Need to Know for What’s Next
DESCRIPTION:https://nysbdc.ecenterdirect.com/events/1019136
URL:https://nysbdcmultisitedev.itec.suny.edu/event/succession-planning-what-you-need-to-know-for-whats-next/
ATTACH;FMTTYPE=image/jpeg:https://nysbdcmultisitedev.itec.suny.edu/wp-content/uploads/2024/11/no_image.jpg
END:VEVENT
END:VCALENDAR