BEGIN:VCALENDAR
VERSION:2.0
PRODID:-//New York Small Business Development Centers - MultisiteD - ECPv6.15.11//NONSGML v1.0//EN
CALSCALE:GREGORIAN
METHOD:PUBLISH
X-WR-CALNAME:New York Small Business Development Centers - MultisiteD
X-ORIGINAL-URL:https://nysbdcmultisitedev.itec.suny.edu
X-WR-CALDESC:Events for New York Small Business Development Centers - MultisiteD
REFRESH-INTERVAL;VALUE=DURATION:PT1H
X-Robots-Tag:noindex
X-PUBLISHED-TTL:PT1H
BEGIN:VTIMEZONE
TZID:America/New_York
BEGIN:DAYLIGHT
TZOFFSETFROM:-0500
TZOFFSETTO:-0400
TZNAME:EDT
DTSTART:20230312T070000
END:DAYLIGHT
BEGIN:STANDARD
TZOFFSETFROM:-0400
TZOFFSETTO:-0500
TZNAME:EST
DTSTART:20231105T060000
END:STANDARD
BEGIN:DAYLIGHT
TZOFFSETFROM:-0500
TZOFFSETTO:-0400
TZNAME:EDT
DTSTART:20240310T070000
END:DAYLIGHT
BEGIN:STANDARD
TZOFFSETFROM:-0400
TZOFFSETTO:-0500
TZNAME:EST
DTSTART:20241103T060000
END:STANDARD
BEGIN:DAYLIGHT
TZOFFSETFROM:-0500
TZOFFSETTO:-0400
TZNAME:EDT
DTSTART:20250309T070000
END:DAYLIGHT
BEGIN:STANDARD
TZOFFSETFROM:-0400
TZOFFSETTO:-0500
TZNAME:EST
DTSTART:20251102T060000
END:STANDARD
END:VTIMEZONE
BEGIN:VEVENT
DTSTART;VALUE=DATE:20241113
DTEND;VALUE=DATE:20241114
DTSTAMP:20260421T154821
CREATED:20241031T160246Z
LAST-MODIFIED:20241105T195226Z
UID:10000128-1731456000-1731542399@nysbdcmultisitedev.itec.suny.edu
SUMMARY:“Building a Blog for You and Your Business Step-by-Step Start”
DESCRIPTION:Queens – LaGuardia SBDC
URL:https://nysbdcmultisitedev.itec.suny.edu/event/building-a-blog-for-you-and-your-business-step-by-step-start/
ATTACH;FMTTYPE=image/jpeg:https://nysbdcmultisitedev.itec.suny.edu/wp-content/uploads/2024/11/no_image.jpg
END:VEVENT
BEGIN:VEVENT
DTSTART;VALUE=DATE:20241113
DTEND;VALUE=DATE:20241114
DTSTAMP:20260421T154821
CREATED:20241031T160248Z
LAST-MODIFIED:20241105T195224Z
UID:10000127-1731456000-1731542399@nysbdcmultisitedev.itec.suny.edu
SUMMARY:Selling or Buying a Business – What You Must Know
DESCRIPTION:Farmingdale State College SBDC
URL:https://nysbdcmultisitedev.itec.suny.edu/event/selling-or-buying-a-business-what-you-must-know/
ATTACH;FMTTYPE=image/jpeg:https://nysbdcmultisitedev.itec.suny.edu/wp-content/uploads/2024/11/no_image.jpg
END:VEVENT
BEGIN:VEVENT
DTSTART;VALUE=DATE:20241113
DTEND;VALUE=DATE:20241114
DTSTAMP:20260421T154821
CREATED:20241031T160251Z
LAST-MODIFIED:20241105T195222Z
UID:10000126-1731456000-1731542399@nysbdcmultisitedev.itec.suny.edu
SUMMARY:Grants for Farm Businesses – What’s Available for 2024-2025?
DESCRIPTION:Mid-Hudson SBDC
URL:https://nysbdcmultisitedev.itec.suny.edu/event/grants-for-farm-businesses-whats-available-for-2024-2025/
ATTACH;FMTTYPE=image/jpeg:https://nysbdcmultisitedev.itec.suny.edu/wp-content/uploads/2024/11/no_image.jpg
END:VEVENT
END:VCALENDAR