BEGIN:VCALENDAR
VERSION:2.0
PRODID:-//New York Small Business Development Centers - MultisiteD - ECPv6.15.11//NONSGML v1.0//EN
CALSCALE:GREGORIAN
METHOD:PUBLISH
X-ORIGINAL-URL:https://nysbdcmultisitedev.itec.suny.edu
X-WR-CALDESC:Events for New York Small Business Development Centers - MultisiteD
REFRESH-INTERVAL;VALUE=DURATION:PT1H
X-Robots-Tag:noindex
X-PUBLISHED-TTL:PT1H
BEGIN:VTIMEZONE
TZID:America/New_York
BEGIN:DAYLIGHT
TZOFFSETFROM:-0500
TZOFFSETTO:-0400
TZNAME:EDT
DTSTART:20230312T070000
END:DAYLIGHT
BEGIN:STANDARD
TZOFFSETFROM:-0400
TZOFFSETTO:-0500
TZNAME:EST
DTSTART:20231105T060000
END:STANDARD
BEGIN:DAYLIGHT
TZOFFSETFROM:-0500
TZOFFSETTO:-0400
TZNAME:EDT
DTSTART:20240310T070000
END:DAYLIGHT
BEGIN:STANDARD
TZOFFSETFROM:-0400
TZOFFSETTO:-0500
TZNAME:EST
DTSTART:20241103T060000
END:STANDARD
BEGIN:DAYLIGHT
TZOFFSETFROM:-0500
TZOFFSETTO:-0400
TZNAME:EDT
DTSTART:20250309T070000
END:DAYLIGHT
BEGIN:STANDARD
TZOFFSETFROM:-0400
TZOFFSETTO:-0500
TZNAME:EST
DTSTART:20251102T060000
END:STANDARD
END:VTIMEZONE
BEGIN:VEVENT
DTSTART;VALUE=DATE:20241106
DTEND;VALUE=DATE:20241107
DTSTAMP:20260421T190708
CREATED:20241031T160245Z
LAST-MODIFIED:20241105T195448Z
UID:10000151-1730851200-1730937599@nysbdcmultisitedev.itec.suny.edu
SUMMARY:Marketing to the Goverment
DESCRIPTION:Queens – York College SBDC
URL:https://nysbdcmultisitedev.itec.suny.edu/event/marketing-to-the-goverment/
ATTACH;FMTTYPE=image/jpeg:https://nysbdcmultisitedev.itec.suny.edu/wp-content/uploads/2024/11/no_image.jpg
END:VEVENT
BEGIN:VEVENT
DTSTART;VALUE=DATE:20241106
DTEND;VALUE=DATE:20241107
DTSTAMP:20260421T190708
CREATED:20241031T160246Z
LAST-MODIFIED:20241105T195443Z
UID:10000149-1730851200-1730937599@nysbdcmultisitedev.itec.suny.edu
SUMMARY:Business Plan Essentials
DESCRIPTION:Mid-Hudson SBDC
URL:https://nysbdcmultisitedev.itec.suny.edu/event/business-plan-essentials/
ATTACH;FMTTYPE=image/jpeg:https://nysbdcmultisitedev.itec.suny.edu/wp-content/uploads/2024/11/no_image.jpg
END:VEVENT
BEGIN:VEVENT
DTSTART;VALUE=DATE:20241106
DTEND;VALUE=DATE:20241107
DTSTAMP:20260421T190708
CREATED:20241031T160246Z
LAST-MODIFIED:20241105T195446Z
UID:10000150-1730851200-1730937599@nysbdcmultisitedev.itec.suny.edu
SUMMARY:Marketing Strategies
DESCRIPTION:Queens – LaGuardia SBDC
URL:https://nysbdcmultisitedev.itec.suny.edu/event/marketing-strategies/
ATTACH;FMTTYPE=image/jpeg:https://nysbdcmultisitedev.itec.suny.edu/wp-content/uploads/2024/11/no_image.jpg
END:VEVENT
BEGIN:VEVENT
DTSTART;VALUE=DATE:20241106
DTEND;VALUE=DATE:20241107
DTSTAMP:20260421T190708
CREATED:20241031T160248Z
LAST-MODIFIED:20241105T195437Z
UID:10000146-1730851200-1730937599@nysbdcmultisitedev.itec.suny.edu
SUMMARY:Westchester Angels Investors Meeting at the Jazz Forum in Tarrytown
DESCRIPTION:Rockland SBDC
URL:https://nysbdcmultisitedev.itec.suny.edu/event/westchester-angels-investors-meeting-at-the-jazz-forum-in-tarrytown/
ATTACH;FMTTYPE=image/jpeg:https://nysbdcmultisitedev.itec.suny.edu/wp-content/uploads/2024/11/no_image.jpg
END:VEVENT
BEGIN:VEVENT
DTSTART;VALUE=DATE:20241106
DTEND;VALUE=DATE:20241107
DTSTAMP:20260421T190708
CREATED:20241031T160248Z
LAST-MODIFIED:20241105T195441Z
UID:10000148-1730851200-1730937599@nysbdcmultisitedev.itec.suny.edu
SUMMARY:Smart Financial Solutions for Smart Businesses
DESCRIPTION:Farmingdale State College SBDC
URL:https://nysbdcmultisitedev.itec.suny.edu/event/smart-financial-solutions-for-smart-businesses/
ATTACH;FMTTYPE=image/jpeg:https://nysbdcmultisitedev.itec.suny.edu/wp-content/uploads/2024/11/no_image.jpg
END:VEVENT
BEGIN:VEVENT
DTSTART;VALUE=DATE:20241106
DTEND;VALUE=DATE:20241107
DTSTAMP:20260421T190708
CREATED:20241031T160249Z
LAST-MODIFIED:20241105T195433Z
UID:10000144-1730851200-1730937599@nysbdcmultisitedev.itec.suny.edu
SUMMARY:NELP Business Entity Formation
DESCRIPTION:Brooklyn & Manhattan – Pace University SBDC
URL:https://nysbdcmultisitedev.itec.suny.edu/event/nelp-business-entity-formation/
ATTACH;FMTTYPE=image/jpeg:https://nysbdcmultisitedev.itec.suny.edu/wp-content/uploads/2024/11/no_image.jpg
END:VEVENT
BEGIN:VEVENT
DTSTART;VALUE=DATE:20241106
DTEND;VALUE=DATE:20241107
DTSTAMP:20260421T190708
CREATED:20241031T160249Z
LAST-MODIFIED:20241105T195435Z
UID:10000145-1730851200-1730937599@nysbdcmultisitedev.itec.suny.edu
SUMMARY:"Small Business Financial Statements"
DESCRIPTION:Brockport SBDC
URL:https://nysbdcmultisitedev.itec.suny.edu/event/small-business-financial-statements/
ATTACH;FMTTYPE=image/jpeg:https://nysbdcmultisitedev.itec.suny.edu/wp-content/uploads/2024/11/no_image.jpg
END:VEVENT
BEGIN:VEVENT
DTSTART;VALUE=DATE:20241106
DTEND;VALUE=DATE:20241107
DTSTAMP:20260421T190708
CREATED:20241031T160251Z
LAST-MODIFIED:20241105T195335Z
UID:10000143-1730851200-1730937599@nysbdcmultisitedev.itec.suny.edu
SUMMARY:Workers Comp and Labor Laws: Is your business in compliance? (Canton)
DESCRIPTION:Canton SBDC
URL:https://nysbdcmultisitedev.itec.suny.edu/event/workers-comp-and-labor-laws-is-your-business-in-compliance-canton/
ATTACH;FMTTYPE=image/jpeg:https://nysbdcmultisitedev.itec.suny.edu/wp-content/uploads/2024/11/no_image.jpg
END:VEVENT
BEGIN:VEVENT
DTSTART;VALUE=DATE:20241106
DTEND;VALUE=DATE:20241107
DTSTAMP:20260421T190708
CREATED:20241101T020018Z
LAST-MODIFIED:20241105T195333Z
UID:10000142-1730851200-1730937599@nysbdcmultisitedev.itec.suny.edu
SUMMARY:Brand & Marketing Strategy Series
DESCRIPTION:Brockport SBDC
URL:https://nysbdcmultisitedev.itec.suny.edu/event/brand-marketing-strategy-series-2/
ATTACH;FMTTYPE=image/jpeg:https://nysbdcmultisitedev.itec.suny.edu/wp-content/uploads/2024/11/no_image.jpg
END:VEVENT
BEGIN:VEVENT
DTSTART;VALUE=DATE:20241106
DTEND;VALUE=DATE:20241107
DTSTAMP:20260421T190708
CREATED:20241107T020010Z
LAST-MODIFIED:20241108T170952Z
UID:10000165-1730851200-1730937599@nysbdcmultisitedev.itec.suny.edu
SUMMARY:E-Commerce Webinar
DESCRIPTION:Onondaga Watertown SBDC
URL:https://nysbdcmultisitedev.itec.suny.edu/event/e-commerce-webinar/
ATTACH;FMTTYPE=image/jpeg:https://nysbdcmultisitedev.itec.suny.edu/wp-content/uploads/2024/11/no_image.jpg
END:VEVENT
END:VCALENDAR